BEGIN:VCALENDAR
VERSION:2.0
PRODID:-//Hartwell Parish Council//Meeting Calendar//EN
CALSCALE:GREGORIAN
METHOD:PUBLISH
BEGIN:VEVENT
UID:70439-20230516@hartwellparishcouncil.gov.uk
DTSTAMP:20260423T083108Z
DTSTART;VALUE=DATE:20230516
DTEND;VALUE=DATE:20230517
SUMMARY:Annual Meeting &#8211\\; 16th May 2023
DESCRIPTION:Annual Meeting Meeting\nView details: https://hartwellparishcouncil.gov.uk/meetings/annual-meeting-16th-may-2023/
URL:https://hartwellparishcouncil.gov.uk/meetings/annual-meeting-16th-may-2023/
END:VEVENT
END:VCALENDAR
