BEGIN:VCALENDAR
VERSION:2.0
PRODID:-//Hartwell Parish Council//Meeting Calendar//EN
CALSCALE:GREGORIAN
METHOD:PUBLISH
BEGIN:VEVENT
UID:71031-20240901@hartwellparishcouncil.gov.uk
DTSTAMP:20260424T095250Z
DTSTART;VALUE=DATE:20240901
DTEND;VALUE=DATE:20240902
SUMMARY:Cllr Stephen Clarke &#8211\\; Monthly Report
DESCRIPTION:West Northamptonshire Councillor Reports Meeting\nView details: https://hartwellparishcouncil.gov.uk/meetings/cllr-stephen-clarke-monthly-report-8/
URL:https://hartwellparishcouncil.gov.uk/meetings/cllr-stephen-clarke-monthly-report-8/
END:VEVENT
END:VCALENDAR
