BEGIN:VCALENDAR
VERSION:2.0
PRODID:-//Hartwell Parish Council//Meeting Calendar//EN
CALSCALE:GREGORIAN
METHOD:PUBLISH
BEGIN:VEVENT
UID:71091-20241001@hartwellparishcouncil.gov.uk
DTSTAMP:20260424T082544Z
DTSTART;VALUE=DATE:20241001
DTEND;VALUE=DATE:20241002
SUMMARY:Cllr Stephen Clarke &#8211\\; Monthly Report
DESCRIPTION:West Northamptonshire Councillor Reports Meeting\nView details: https://hartwellparishcouncil.gov.uk/meetings/cllr-stephen-clarke-october-monthly-report/
URL:https://hartwellparishcouncil.gov.uk/meetings/cllr-stephen-clarke-october-monthly-report/
END:VEVENT
END:VCALENDAR
