BEGIN:VCALENDAR
VERSION:2.0
PRODID:-//Hartwell Parish Council//Meeting Calendar//EN
CALSCALE:GREGORIAN
METHOD:PUBLISH
BEGIN:VEVENT
UID:71162-20241101@hartwellparishcouncil.gov.uk
DTSTAMP:20260422T084327Z
DTSTART;VALUE=DATE:20241101
DTEND;VALUE=DATE:20241102
SUMMARY:Cllr Clarke Monthly Report
DESCRIPTION:West Northamptonshire Councillor Reports Meeting\nView details: https://hartwellparishcouncil.gov.uk/meetings/cllr-clarke-monthly-report-2/
URL:https://hartwellparishcouncil.gov.uk/meetings/cllr-clarke-monthly-report-2/
END:VEVENT
END:VCALENDAR
