BEGIN:VCALENDAR
VERSION:2.0
PRODID:-//Hartwell Parish Council//Meeting Calendar//EN
CALSCALE:GREGORIAN
METHOD:PUBLISH
BEGIN:VEVENT
UID:71757-20260310@hartwellparishcouncil.gov.uk
DTSTAMP:20260423T161814Z
DTSTART;VALUE=DATE:20260310
DTEND;VALUE=DATE:20260311
SUMMARY:Environment Committee Meeting March 2026
DESCRIPTION:Environment Committee Meeting\nView details: https://hartwellparishcouncil.gov.uk/meetings/environment-committee-meeting-march-2026/
URL:https://hartwellparishcouncil.gov.uk/meetings/environment-committee-meeting-march-2026/
END:VEVENT
END:VCALENDAR
