BEGIN:VCALENDAR
VERSION:2.0
PRODID:-//Hartwell Parish Council//Meeting Calendar//EN
CALSCALE:GREGORIAN
METHOD:PUBLISH
BEGIN:VEVENT
UID:71758-20260505@hartwellparishcouncil.gov.uk
DTSTAMP:20260423T144330Z
DTSTART;VALUE=DATE:20260505
DTEND;VALUE=DATE:20260506
SUMMARY:Environment Committee Meeting May 2026
DESCRIPTION:Environment Committee Meeting\nView details: https://hartwellparishcouncil.gov.uk/meetings/environment-committee-meeting-may-2026/
URL:https://hartwellparishcouncil.gov.uk/meetings/environment-committee-meeting-may-2026/
END:VEVENT
END:VCALENDAR
