BEGIN:VCALENDAR
VERSION:2.0
PRODID:-//Hartwell Parish Council//Meeting Calendar//EN
CALSCALE:GREGORIAN
METHOD:PUBLISH
BEGIN:VEVENT
UID:71759-20260714@hartwellparishcouncil.gov.uk
DTSTAMP:20260423T160817Z
DTSTART;VALUE=DATE:20260714
DTEND;VALUE=DATE:20260715
SUMMARY:Environment Committee Meeting July 2026
DESCRIPTION:Environment Committee Meeting\nView details: https://hartwellparishcouncil.gov.uk/meetings/environment-committee-meeting-july-2026/
URL:https://hartwellparishcouncil.gov.uk/meetings/environment-committee-meeting-july-2026/
END:VEVENT
END:VCALENDAR
